BEGIN:VCALENDAR
VERSION:2.0
PRODID:-//Latärnli - ECPv6.15.20//NONSGML v1.0//EN
CALSCALE:GREGORIAN
METHOD:PUBLISH
X-WR-CALNAME:Latärnli
X-ORIGINAL-URL:https://lataernli.ch
X-WR-CALDESC:Veranstaltungen im Latärnli
REFRESH-INTERVAL;VALUE=DURATION:PT1H
X-Robots-Tag:noindex
X-PUBLISHED-TTL:PT1H
BEGIN:VTIMEZONE
TZID:Europe/Zurich
BEGIN:DAYLIGHT
TZOFFSETFROM:+0100
TZOFFSETTO:+0200
TZNAME:CEST
DTSTART:20250330T010000
END:DAYLIGHT
BEGIN:STANDARD
TZOFFSETFROM:+0200
TZOFFSETTO:+0100
TZNAME:CET
DTSTART:20251026T010000
END:STANDARD
BEGIN:DAYLIGHT
TZOFFSETFROM:+0100
TZOFFSETTO:+0200
TZNAME:CEST
DTSTART:20260329T010000
END:DAYLIGHT
BEGIN:STANDARD
TZOFFSETFROM:+0200
TZOFFSETTO:+0100
TZNAME:CET
DTSTART:20261025T010000
END:STANDARD
BEGIN:DAYLIGHT
TZOFFSETFROM:+0100
TZOFFSETTO:+0200
TZNAME:CEST
DTSTART:20270328T010000
END:DAYLIGHT
BEGIN:STANDARD
TZOFFSETFROM:+0200
TZOFFSETTO:+0100
TZNAME:CET
DTSTART:20271031T010000
END:STANDARD
END:VTIMEZONE
BEGIN:VEVENT
DTSTART;TZID=Europe/Zurich:20260602T200000
DTEND;TZID=Europe/Zurich:20260602T220000
DTSTAMP:20260422T122547
CREATED:20260309T152510Z
LAST-MODIFIED:20260309T152510Z
UID:24521-1780430400-1780437600@lataernli.ch
SUMMARY:Sommerporbe
DESCRIPTION:
URL:https://lataernli.ch/event/sommerporbe/
LOCATION:Aula Burg\, Burgstrasse 35\, Liestal\, Baselland\, 4410\, Switzerland
CATEGORIES:Gesamtprobe,Startseite
ATTACH;FMTTYPE=image/jpeg:https://lataernli.ch/wp-content/uploads/2026/03/Saisonabschluss.jpg
END:VEVENT
BEGIN:VEVENT
DTSTART;TZID=Europe/Zurich:20260707T080000
DTEND;TZID=Europe/Zurich:20260707T170000
DTSTAMP:20260422T122547
CREATED:20260309T152647Z
LAST-MODIFIED:20260309T152647Z
UID:24523-1783411200-1783443600@lataernli.ch
SUMMARY:Sommerprob
DESCRIPTION:
URL:https://lataernli.ch/event/sommerprob/
LOCATION:Aula Burg\, Burgstrasse 35\, Liestal\, Baselland\, 4410\, Switzerland
CATEGORIES:Gesamtprobe,Startseite
ATTACH;FMTTYPE=image/jpeg:https://lataernli.ch/wp-content/uploads/2026/03/Saisonabschluss.jpg
END:VEVENT
END:VCALENDAR